BEGIN:VCALENDAR
VERSION:2.0
PRODID:-//wp-events-plugin.com//7.2.3.1//EN
TZID:America/Chicago
X-WR-TIMEZONE:America/Chicago
BEGIN:VEVENT
UID:0-283@iowaalpha.tbp.org
DTSTART:20190407T190000Z
DTEND:20190407T210000Z
DTSTAMP:20190403T173631Z
URL:https://iowaalpha.tbp.org/events/adopt-a-highway-meet-howe-entrance/
SUMMARY:Adopt a Highway\, Meet Howe Entrance
DESCRIPTION:
END:VEVENT
END:VCALENDAR