BEGIN:VCALENDAR
VERSION:2.0
PRODID:-//wp-events-plugin.com//7.2.3.1//EN
TZID:America/Chicago
X-WR-TIMEZONE:America/Chicago
BEGIN:VEVENT
UID:0-346@iowaalpha.tbp.org
DTSTART;TZID=America/Chicago:20201011T130000
DTEND;TZID=America/Chicago:20201011T150000
DTSTAMP:20201005T144309Z
URL:https://iowaalpha.tbp.org/events/adopt-a-highway-tentative/
SUMMARY:Adopt-A-Highway Cleanup\, Cancelled
DESCRIPTION:
END:VEVENT
BEGIN:VTIMEZONE
TZID:America/Chicago
X-LIC-LOCATION:America/Chicago
BEGIN:DAYLIGHT
DTSTART:20200308T030000
TZOFFSETFROM:-0600
TZOFFSETTO:-0500
TZNAME:CDT
END:DAYLIGHT
END:VTIMEZONE
END:VCALENDAR