BEGIN:VCALENDAR
VERSION:2.0
PRODID:-//wp-events-plugin.com//7.2.3.1//EN
TZID:America/Chicago
X-WR-TIMEZONE:America/Chicago
BEGIN:VEVENT
UID:0-319@iowaalpha.tbp.org
DTSTART:20200112T190000Z
DTEND:20200112T203000Z
DTSTAMP:20200109T110142Z
URL:https://iowaalpha.tbp.org/events/advisory-board-meeting-howe-atrium-2/
SUMMARY:Advisory Board Meeting - Howe Atrium
DESCRIPTION:
END:VEVENT
END:VCALENDAR