BEGIN:VCALENDAR
VERSION:2.0
PRODID:-//wp-events-plugin.com//7.2.3.1//EN
TZID:America/Chicago
X-WR-TIMEZONE:America/Chicago
BEGIN:VEVENT
UID:190-350@iowaalpha.tbp.org
DTSTART:20210124T190000Z
DTEND:20210124T203000Z
DTSTAMP:20210115T183426Z
URL:https://iowaalpha.tbp.org/events/advisory-board-meeting-virtual-2/
SUMMARY:Advisory Board Meeting\, Virtual
DESCRIPTION:
END:VEVENT
END:VCALENDAR