BEGIN:VCALENDAR
VERSION:2.0
PRODID:-//wp-events-plugin.com//7.2.3.1//EN
TZID:America/Chicago
X-WR-TIMEZONE:America/Chicago
BEGIN:VEVENT
UID:0-282@iowaalpha.tbp.org
DTSTART:20190407T020000Z
DTEND:20190407T040000Z
DTSTAMP:20190403T173438Z
URL:https://iowaalpha.tbp.org/events/blacklight-dodgeball-beyer-gym/
SUMMARY:Blacklight Dodgeball\, Beyer Gym
DESCRIPTION:
END:VEVENT
END:VCALENDAR