BEGIN:VCALENDAR
VERSION:2.0
PRODID:-//wp-events-plugin.com//7.2.3.1//EN
TZID:America/Chicago
X-WR-TIMEZONE:America/Chicago
BEGIN:VEVENT
UID:0-351@iowaalpha.tbp.org
DTSTART:20210127T010000Z
DTEND:20210127T020000Z
DTSTAMP:20210115T183621Z
URL:https://iowaalpha.tbp.org/events/cabinet-meeting-virtual/
SUMMARY:Cabinet Meeting\, Virtual
DESCRIPTION:
END:VEVENT
END:VCALENDAR