BEGIN:VCALENDAR
VERSION:2.0
PRODID:-//wp-events-plugin.com//7.2.3.1//EN
TZID:America/Chicago
X-WR-TIMEZONE:America/Chicago
BEGIN:VEVENT
UID:0-286@iowaalpha.tbp.org
DTSTART;VALUE=DATE:20190413
DTEND;VALUE=DATE:20190414
DTSTAMP:20190403T174052Z
URL:https://iowaalpha.tbp.org/events/district-11-conference-minneapolis-mn
 /
SUMMARY:District 11 Conference\, Minneapolis\, MN
DESCRIPTION:
END:VEVENT
END:VCALENDAR