BEGIN:VCALENDAR
VERSION:2.0
PRODID:-//wp-events-plugin.com//7.2.3.1//EN
TZID:America/Chicago
X-WR-TIMEZONE:America/Chicago
BEGIN:VEVENT
UID:190-281@iowaalpha.tbp.org
DTSTART:20190406T170000Z
DTEND:20190406T200000Z
DTSTAMP:20190403T173327Z
URL:https://iowaalpha.tbp.org/events/engineering-day-at-the-mall-north-gra
 nd-river-mall/
SUMMARY:Engineering Day at the Mall\, North Grand River Mall
DESCRIPTION:
END:VEVENT
END:VCALENDAR