BEGIN:VCALENDAR
VERSION:2.0
PRODID:-//wp-events-plugin.com//7.2.3.1//EN
TZID:America/Chicago
X-WR-TIMEZONE:America/Chicago
BEGIN:VEVENT
UID:190-328@iowaalpha.tbp.org
DTSTART:20200308T143000Z
DTEND:20200308T173000Z
DTSTAMP:20200301T140155Z
URL:https://iowaalpha.tbp.org/events/engineering-futures-analytical-proble
 m-solving-howe-1304/
SUMMARY:Engineering Futures - Analytical Problem Solving\, Howe 1304
DESCRIPTION:
END:VEVENT
END:VCALENDAR