BEGIN:VCALENDAR
VERSION:2.0
PRODID:-//wp-events-plugin.com//7.2.3.1//EN
TZID:America/Chicago
X-WR-TIMEZONE:America/Chicago
BEGIN:VEVENT
UID:0-325@iowaalpha.tbp.org
DTSTART:20200306T133000Z
DTEND:20200306T163000Z
DTSTAMP:20200301T135434Z
URL:https://iowaalpha.tbp.org/events/free-coffee-friday-hoover-atrium-38/
SUMMARY:Free Coffee Friday\, Hoover Atrium
DESCRIPTION:
END:VEVENT
END:VCALENDAR