BEGIN:VCALENDAR
VERSION:2.0
PRODID:-//wp-events-plugin.com//7.2.3.1//EN
TZID:America/Chicago
X-WR-TIMEZONE:America/Chicago
BEGIN:VEVENT
UID:190-391@iowaalpha.tbp.org
DTSTART:20240221T000000Z
DTEND:20240221T010000Z
DTSTAMP:20240210T032036Z
URL:https://iowaalpha.tbp.org/events/general-meeting-3-2/
SUMMARY:General Meeting 3 - Pearson 1105
DESCRIPTION:
END:VEVENT
END:VCALENDAR