BEGIN:VCALENDAR
VERSION:2.0
PRODID:-//wp-events-plugin.com//7.2.3.1//EN
TZID:America/Chicago
X-WR-TIMEZONE:America/Chicago
BEGIN:VEVENT
UID:190-363@iowaalpha.tbp.org
DTSTART:20210922T010000Z
DTEND:20210922T020000Z
DTSTAMP:20210906T150854Z
URL:https://iowaalpha.tbp.org/events/general-meeting-3-post-career-fair-ce
 lebration-sic-0114/
SUMMARY:General Meeting 3 - Post Career Fair Celebration\, SIC 0114 and Vir
 tual
DESCRIPTION:
END:VEVENT
END:VCALENDAR