BEGIN:VCALENDAR
VERSION:2.0
PRODID:-//wp-events-plugin.com//7.2.3.1//EN
TZID:America/Chicago
X-WR-TIMEZONE:America/Chicago
BEGIN:VEVENT
UID:190-287@iowaalpha.tbp.org
DTSTART:20190417T000000Z
DTEND:20190417T010000Z
DTSTAMP:20190403T174954Z
URL:https://iowaalpha.tbp.org/events/general-meeting-graduate-recognition-
 1304-howe-2/
SUMMARY:Officer Transition Meeting\, 1304 Howe
DESCRIPTION:
END:VEVENT
END:VCALENDAR