BEGIN:VCALENDAR
VERSION:2.0
PRODID:-//wp-events-plugin.com//7.2.3.1//EN
TZID:America/Chicago
X-WR-TIMEZONE:America/Chicago
BEGIN:VEVENT
UID:0-289@iowaalpha.tbp.org
DTSTART:20190424T000000Z
DTEND:20190424T010000Z
DTSTAMP:20190403T174609Z
URL:https://iowaalpha.tbp.org/events/general-meeting-graduate-recognition-
 1304-howe-3/
SUMMARY:General Meeting - Graduate Recognition\, 1304 Howe
DESCRIPTION:
END:VEVENT
END:VCALENDAR