BEGIN:VCALENDAR
VERSION:2.0
PRODID:-//wp-events-plugin.com//7.2.3.1//EN
TZID:America/Chicago
X-WR-TIMEZONE:America/Chicago
BEGIN:VEVENT
UID:190-349@iowaalpha.tbp.org
DTSTART:20201028T010000Z
DTEND:20201028T020000Z
DTSTAMP:20201016T125504Z
URL:https://iowaalpha.tbp.org/events/general-meeting-small-group-presentat
 ions-followed-by-new-member-elections/
SUMMARY:General Meeting – Small Group Presentations followed by New Membe
 r Elections
DESCRIPTION:
END:VEVENT
END:VCALENDAR