BEGIN:VCALENDAR
VERSION:2.0
PRODID:-//wp-events-plugin.com//7.2.3.1//EN
TZID:America/Chicago
X-WR-TIMEZONE:America/Chicago
BEGIN:VEVENT
UID:190-260@iowaalpha.tbp.org
DTSTART:20190206T000000Z
DTEND:20190206T010000Z
DTSTAMP:20190115T221329Z
URL:https://iowaalpha.tbp.org/events/general-meeting-todd-sondag-guest-spe
 aker-1304-howe/
SUMMARY:General Meeting (Todd Sondag\, guest speaker)\, 1304 Howe
DESCRIPTION:
END:VEVENT
END:VCALENDAR