BEGIN:VCALENDAR
VERSION:2.0
PRODID:-//wp-events-plugin.com//7.2.3.1//EN
TZID:America/Chicago
X-WR-TIMEZONE:America/Chicago
BEGIN:VEVENT
UID:190-340@iowaalpha.tbp.org
DTSTART:20200909T010000Z
DTEND:20200909T020000Z
DTSTAMP:20200831T135320Z
URL:https://iowaalpha.tbp.org/events/general-meeting-virtual-microsoft-tea
 ms/
SUMMARY:General Meeting\, Virtual Microsoft Teams
DESCRIPTION:
END:VEVENT
END:VCALENDAR