BEGIN:VCALENDAR
VERSION:2.0
PRODID:-//wp-events-plugin.com//7.2.3.1//EN
TZID:America/Chicago
X-WR-TIMEZONE:America/Chicago
BEGIN:VEVENT
UID:190-337@iowaalpha.tbp.org
DTSTART:20200819T010000Z
DTEND:20200819T020000Z
DTSTAMP:20200808T211404Z
URL:https://iowaalpha.tbp.org/events/general-meeting-virtual/
SUMMARY:General Meeting\, Virtual
DESCRIPTION:
END:VEVENT
END:VCALENDAR