BEGIN:VCALENDAR
VERSION:2.0
PRODID:-//wp-events-plugin.com//7.2.3.1//EN
TZID:America/Chicago
X-WR-TIMEZONE:America/Chicago
BEGIN:VEVENT
UID:0-385@iowaalpha.tbp.org
DTSTART:20230305T190000Z
DTEND:20230305T230000Z
DTSTAMP:20230220T153039Z
URL:https://iowaalpha.tbp.org/events/initiate-bent-polishing-sukup-1215-2/
SUMMARY:Initiate Bent Polishing\, Sukup 1215
DESCRIPTION:
END:VEVENT
END:VCALENDAR