BEGIN:VCALENDAR
VERSION:2.0
PRODID:-//wp-events-plugin.com//7.2.3.1//EN
TZID:America/Chicago
X-WR-TIMEZONE:America/Chicago
BEGIN:VEVENT
UID:190-329@iowaalpha.tbp.org
DTSTART:20200308T190000Z
DTEND:20200308T230000Z
DTSTAMP:20200301T140327Z
URL:https://iowaalpha.tbp.org/events/initiate-bent-polishing-sukup-1215/
SUMMARY:Initiate Bent Polishing\, Sukup 1215
DESCRIPTION:
END:VEVENT
END:VCALENDAR