BEGIN:VCALENDAR
VERSION:2.0
PRODID:-//wp-events-plugin.com//7.2.3.1//EN
TZID:America/Chicago
X-WR-TIMEZONE:America/Chicago
BEGIN:VEVENT
UID:190-381@iowaalpha.tbp.org
DTSTART:20230216T000000Z
DTEND:20230216T010000Z
DTSTAMP:20230214T161515Z
URL:https://iowaalpha.tbp.org/events/initiate-information-meeting-pearson-
 1106/
SUMMARY:Initiate Information Meeting\, Pearson 1106
DESCRIPTION:
END:VEVENT
END:VCALENDAR