BEGIN:VCALENDAR
VERSION:2.0
PRODID:-//wp-events-plugin.com//7.2.3.1//EN
TZID:America/Chicago
X-WR-TIMEZONE:America/Chicago
BEGIN:VEVENT
UID:190-393@iowaalpha.tbp.org
DTSTART:20260219T233000Z
DTEND:20260220T003000Z
DTSTAMP:20260219T234504Z
URL:https://iowaalpha.tbp.org/events/initiate-information-meeting-pearson-
 1115/
SUMMARY:Initiate Information Meeting - Pearson 1115
DESCRIPTION:Open to: Invitees\, Cabinet\, Advisors
END:VEVENT
END:VCALENDAR