BEGIN:VCALENDAR
VERSION:2.0
PRODID:-//wp-events-plugin.com//7.2.3.1//EN
TZID:America/Chicago
X-WR-TIMEZONE:America/Chicago
BEGIN:VEVENT
UID:190-342@iowaalpha.tbp.org
DTSTART:20200918T010000Z
DTEND:20200918T020000Z
DTSTAMP:20200831T135116Z
URL:https://iowaalpha.tbp.org/events/initiate-information-meeting-virtual-
 microsoft-teams-session-2/
SUMMARY:Initiate Information Meeting\, Virtual Microsoft Teams (Session 2)
DESCRIPTION:
END:VEVENT
END:VCALENDAR