BEGIN:VCALENDAR
VERSION:2.0
PRODID:-//wp-events-plugin.com//7.2.3.1//EN
TZID:America/Chicago
X-WR-TIMEZONE:America/Chicago
BEGIN:VEVENT
UID:190-364@iowaalpha.tbp.org
DTSTART:20210923T010000Z
DTEND:20210923T020000Z
DTSTAMP:20210906T150929Z
URL:https://iowaalpha.tbp.org/events/initiate-information-session-1-sic-22
 21/
SUMMARY:Initiate Information Session 1\, SIC 2221 and Virtual
DESCRIPTION:
END:VEVENT
END:VCALENDAR