BEGIN:VCALENDAR
VERSION:2.0
PRODID:-//wp-events-plugin.com//7.2.3.1//EN
TZID:America/Chicago
X-WR-TIMEZONE:America/Chicago
BEGIN:VEVENT
UID:190-354@iowaalpha.tbp.org
DTSTART:20210224T010000Z
DTEND:20210224T020000Z
DTSTAMP:20210115T184248Z
URL:https://iowaalpha.tbp.org/events/initiate-information-session-1-virtua
 l/
SUMMARY:Initiate Information Session 1\, Virtual
DESCRIPTION:
END:VEVENT
END:VCALENDAR