BEGIN:VCALENDAR
VERSION:2.0
PRODID:-//wp-events-plugin.com//7.2.3.1//EN
TZID:America/Chicago
X-WR-TIMEZONE:America/Chicago
BEGIN:VEVENT
UID:190-365@iowaalpha.tbp.org
DTSTART:20210924T010000Z
DTEND:20210924T020000Z
DTSTAMP:20210906T150554Z
URL:https://iowaalpha.tbp.org/events/initiate-information-session-2-sic-01
 14-and-virtual/
SUMMARY:Initiate Information Session 2\, SIC 0114 and Virtual
DESCRIPTION:
END:VEVENT
END:VCALENDAR