BEGIN:VCALENDAR
VERSION:2.0
PRODID:-//wp-events-plugin.com//7.2.3.1//EN
TZID:America/Chicago
X-WR-TIMEZONE:America/Chicago
BEGIN:VEVENT
UID:190-362@iowaalpha.tbp.org
DTSTART:20210912T190000Z
DTEND:20210912T210000Z
DTSTAMP:20210906T150053Z
URL:https://iowaalpha.tbp.org/events/initiate-letter-stuffing-marston-2300
 /
SUMMARY:Initiate Letter Stuffing\, Marston 2300
DESCRIPTION:
END:VEVENT
END:VCALENDAR