BEGIN:VCALENDAR
VERSION:2.0
PRODID:-//wp-events-plugin.com//7.2.3.1//EN
TZID:America/Chicago
X-WR-TIMEZONE:America/Chicago
BEGIN:VEVENT
UID:0-377@iowaalpha.tbp.org
DTSTART;VALUE=DATE:20220923
DTEND;VALUE=DATE:20221001
DTSTAMP:20220825T001856Z
URL:https://iowaalpha.tbp.org/events/initiate-small-group-sign-up-on-canva
 s-2/
SUMMARY:Initiate Small Group Sign-up on Canvas
DESCRIPTION:
END:VEVENT
END:VCALENDAR