BEGIN:VCALENDAR
VERSION:2.0
PRODID:-//wp-events-plugin.com//7.2.3.1//EN
TZID:America/Chicago
X-WR-TIMEZONE:America/Chicago
BEGIN:VEVENT
UID:190-323@iowaalpha.tbp.org
DTSTART;VALUE=DATE:20200217
DTEND;VALUE=DATE:20200222
DTSTAMP:20200206T121432Z
URL:https://iowaalpha.tbp.org/events/initiate-small-group-signup-on-canvas
 /
SUMMARY:Initiate Small Group Signup on Canvas\, 17-21 February
DESCRIPTION:
END:VEVENT
END:VCALENDAR