BEGIN:VCALENDAR
VERSION:2.0
PRODID:-//wp-events-plugin.com//7.2.3.1//EN
TZID:America/Chicago
X-WR-TIMEZONE:America/Chicago
BEGIN:VEVENT
UID:190-290@iowaalpha.tbp.org
DTSTART:20190428T230000Z
DTEND:20190429T020000Z
DTSTAMP:20190403T174807Z
URL:https://iowaalpha.tbp.org/events/initiation-ceremony-and-banquet-220-2
 40-scheman/
SUMMARY:Initiation Ceremony and Banquet\, 220-240 Scheman
DESCRIPTION:
END:VEVENT
END:VCALENDAR