BEGIN:VCALENDAR
VERSION:2.0
PRODID:-//wp-events-plugin.com//7.2.3.1//EN
TZID:America/Chicago
X-WR-TIMEZONE:America/Chicago
BEGIN:VEVENT
UID:0-259@iowaalpha.tbp.org
DTSTART:20190203T190000Z
DTEND:20190203T210000Z
DTSTAMP:20190115T221207Z
URL:https://iowaalpha.tbp.org/events/letter-stuffing-party-howe-atrium-4/
SUMMARY:Letter Stuffing Party\, Howe Atrium
DESCRIPTION:
END:VEVENT
END:VCALENDAR