BEGIN:VCALENDAR
VERSION:2.0
PRODID:-//wp-events-plugin.com//7.2.3.1//EN
TZID:America/Chicago
X-WR-TIMEZONE:America/Chicago
BEGIN:VEVENT
UID:190-295@iowaalpha.tbp.org
DTSTART:20190827T160000Z
DTEND:20190827T170000Z
DTSTAMP:20190819T201513Z
URL:https://iowaalpha.tbp.org/events/meeting-with-dean-easterling-4100k-ma
 rston-hall/
SUMMARY:Meeting with Dean Easterling\, 4100K Marston Hall
DESCRIPTION:
END:VEVENT
END:VCALENDAR