BEGIN:VCALENDAR
VERSION:2.0
PRODID:-//wp-events-plugin.com//7.2.3.1//EN
TZID:America/Chicago
X-WR-TIMEZONE:America/Chicago
BEGIN:VEVENT
UID:190-348@iowaalpha.tbp.org
DTSTART:20201024T133000Z
DTEND:20201024T173000Z
DTSTAMP:20201016T125207Z
URL:https://iowaalpha.tbp.org/events/pi-mile-run-set-up-730-am-race-900-am
 -near-design-college/
SUMMARY:Pi Mile Run - Set-up 7:30 am\, Race 9:00 am near Design College
DESCRIPTION:
END:VEVENT
END:VCALENDAR