BEGIN:VCALENDAR
VERSION:2.0
PRODID:-//wp-events-plugin.com//7.2.3.1//EN
TZID:America/Chicago
X-WR-TIMEZONE:America/Chicago
BEGIN:VEVENT
UID:0-285@iowaalpha.tbp.org
DTSTART:20190412T140000Z
DTEND:20190412T193000Z
DTSTAMP:20190403T173936Z
URL:https://iowaalpha.tbp.org/events/roller-coaster-competition-howe-atriu
 m-2/
SUMMARY:Roller Coaster Competition\, Howe Atrium
DESCRIPTION:
END:VEVENT
END:VCALENDAR