BEGIN:VCALENDAR
VERSION:2.0
PRODID:-//wp-events-plugin.com//7.2.3.1//EN
TZID:America/Chicago
X-WR-TIMEZONE:America/Chicago
BEGIN:VEVENT
UID:0-288@iowaalpha.tbp.org
DTSTART:20190419T000000Z
DTEND:20190419T020000Z
DTSTAMP:20190417T151745Z
URL:https://iowaalpha.tbp.org/events/sports-night-leid-rec/
SUMMARY:Sports Night\, Leid Rec
DESCRIPTION:
END:VEVENT
END:VCALENDAR