BEGIN:VCALENDAR
VERSION:2.0
PRODID:-//wp-events-plugin.com//7.2.3.1//EN
TZID:America/Chicago
X-WR-TIMEZONE:America/Chicago
BEGIN:VEVENT
UID:190-331@iowaalpha.tbp.org
DTSTART:20200313T200000Z
DTEND:20200313T210000Z
DTSTAMP:20200301T140825Z
URL:https://iowaalpha.tbp.org/events/tau-beta-pi-pie-day-howe-entrance-and
 -hoover-atrium-setup-at-noon/
SUMMARY:Tau Beta Pi Pie Day\, Howe Entrance and Hoover Atrium\, Setup at No
 on
DESCRIPTION:
END:VEVENT
END:VCALENDAR